BEGIN:VCALENDAR
VERSION:2.0
PRODID:-//East Central Illinois District 12 - ECPv6.0.1.1//NONSGML v1.0//EN
CALSCALE:GREGORIAN
METHOD:PUBLISH
X-WR-CALNAME:East Central Illinois District 12
X-ORIGINAL-URL:https://aa-eci.org
X-WR-CALDESC:Events for East Central Illinois District 12
REFRESH-INTERVAL;VALUE=DURATION:PT1H
X-Robots-Tag:noindex
X-PUBLISHED-TTL:PT1H
BEGIN:VTIMEZONE
TZID:America/Chicago
BEGIN:DAYLIGHT
TZOFFSETFROM:-0600
TZOFFSETTO:-0500
TZNAME:CDT
DTSTART:20240310T080000
END:DAYLIGHT
BEGIN:STANDARD
TZOFFSETFROM:-0500
TZOFFSETTO:-0600
TZNAME:CST
DTSTART:20241103T070000
END:STANDARD
END:VTIMEZONE
BEGIN:VEVENT
DTSTART;TZID=America/Chicago:20240602T080000
DTEND;TZID=America/Chicago:20240602T143000
DTSTAMP:20260424T001815
CREATED:20240601T154250Z
LAST-MODIFIED:20240601T154250Z
UID:4005-1717315200-1717338600@aa-eci.org
SUMMARY:Area 21 June 2024 Assembly (In Person & ZOOM)
DESCRIPTION:Registration 8-9 am\nBreakfast provided\nLunch: $10 \nJune 2024 Assembly Flyer\nJune 2024 Assembly Agenda\nVirtual Flyer Table (reports\, minutes\, event flyers)  \nZOOM:\nLog on beginning at 8:30 am\nUse Website link below (or on Assembly Agenda PDF)\nOr go to zoom.com and enter \nMeeting ID: 889 8949 4288\nPasscode: 177777 \nPhone: 1 309-205-3324 and enter Meeting ID and Passcode when prompted
URL:https://aa-eci.org/event/area-21-june-2024-assembly-in-person-zoom/
LOCATION:Watson Civic Center\, 103 Jackson St.\, Watson\, IL\, 62473\, United States
CATEGORIES:Area 21
END:VEVENT
END:VCALENDAR