BEGIN:VCALENDAR
VERSION:2.0
PRODID:-//East Central Illinois District 12 - ECPv6.0.1.1//NONSGML v1.0//EN
CALSCALE:GREGORIAN
METHOD:PUBLISH
X-ORIGINAL-URL:https://aa-eci.org
X-WR-CALDESC:Events for East Central Illinois District 12
REFRESH-INTERVAL;VALUE=DURATION:PT1H
X-Robots-Tag:noindex
X-PUBLISHED-TTL:PT1H
BEGIN:VTIMEZONE
TZID:America/Chicago
BEGIN:DAYLIGHT
TZOFFSETFROM:-0600
TZOFFSETTO:-0500
TZNAME:CDT
DTSTART:20260308T080000
END:DAYLIGHT
BEGIN:STANDARD
TZOFFSETFROM:-0500
TZOFFSETTO:-0600
TZNAME:CST
DTSTART:20261101T070000
END:STANDARD
END:VTIMEZONE
BEGIN:VEVENT
DTSTART;TZID=America/Chicago:20260201T140000
DTEND;TZID=America/Chicago:20260201T150000
DTSTAMP:20260422T180459
CREATED:20260110T121717Z
LAST-MODIFIED:20260110T121822Z
UID:4591-1769954400-1769958000@aa-eci.org
SUMMARY:Planning Meeting for June 2026 Assembly (ZOOM)
DESCRIPTION:Want to help with the Area 21 Assembly hosted by Dist 12 on June 2026 in Mattoon? \nWant to learn more about how A.A. carries the message? \nCome to this planning meeting! \nZOOM ID: 880 8168 1181\nPasscode: June2026 or use the URL link below beginning 1:45 pm CST on Feb. 1 2026.
URL:https://aa-eci.org/event/planning-meeting-for-june-2026-assembly-zoom/
LOCATION:IL
END:VEVENT
END:VCALENDAR