BEGIN:VCALENDAR
VERSION:2.0
PRODID:-//East Central Illinois District 12 - ECPv6.0.1.1//NONSGML v1.0//EN
CALSCALE:GREGORIAN
METHOD:PUBLISH
X-WR-CALNAME:East Central Illinois District 12
X-ORIGINAL-URL:https://aa-eci.org
X-WR-CALDESC:Events for East Central Illinois District 12
REFRESH-INTERVAL;VALUE=DURATION:PT1H
X-Robots-Tag:noindex
X-PUBLISHED-TTL:PT1H
BEGIN:VTIMEZONE
TZID:America/Chicago
BEGIN:DAYLIGHT
TZOFFSETFROM:-0600
TZOFFSETTO:-0500
TZNAME:CDT
DTSTART:20250309T080000
END:DAYLIGHT
BEGIN:STANDARD
TZOFFSETFROM:-0500
TZOFFSETTO:-0600
TZNAME:CST
DTSTART:20251102T070000
END:STANDARD
END:VTIMEZONE
BEGIN:VEVENT
DTSTART;TZID=America/Chicago:20250925T183000
DTEND;TZID=America/Chicago:20250925T200000
DTSTAMP:20260419T091623
CREATED:20250910T094705Z
LAST-MODIFIED:20250910T094705Z
UID:4461-1758825000-1758830400@aa-eci.org
SUMMARY:Common Solution Speaker Mtg. & Tailgate Party
DESCRIPTION:Speaker: Lucas L. \nTailgate begins at 6:30 pm.\nWear your favorite team shirt\nBring your favorite tailgate snack to share!! \nMeeting / speaker begins at 7 pm.
URL:https://aa-eci.org/event/common-solution-speaker-mtg-tailgate-party/
LOCATION:First Church of God\, 1125 Montgomery Dr\, Charleston\, IL\, 61920\, United States
CATEGORIES:Speaker Meeting
END:VEVENT
END:VCALENDAR